BEGIN:VCALENDAR
VERSION:2.0
PRODID:-//pretix//pretix.eu//
BEGIN:VTIMEZONE
TZID:Europe/London
BEGIN:STANDARD
DTSTART:20001029T030000
RRULE:FREQ=YEARLY;BYDAY=-1SU;BYMONTH=10
TZNAME:GMT
TZOFFSETFROM:+0100
TZOFFSETTO:+0000
END:STANDARD
BEGIN:DAYLIGHT
DTSTART:20000326T020000
RRULE:FREQ=YEARLY;BYDAY=-1SU;BYMONTH=3
TZNAME:BST
TZOFFSETFROM:+0000
TZOFFSETTO:+0100
END:DAYLIGHT
END:VTIMEZONE
BEGIN:VEVENT
UID:pretix-theyard-mothersdaybrunch-0@tickets.proudfreedom.co.uk
DTSTART;TZID=Europe/London:20230319T160000
DTEND;TZID=Europe/London:20230319T180000
DESCRIPTION:Tickets: https://tickets.proudfreedom.co.uk/mothersdaybrunch/\n
 Organizer: The Yard
DTSTAMP:20260424T225114Z
LOCATION:The Yard Coventry
SUMMARY:Mother's Day Bingo & Brunch
END:VEVENT
END:VCALENDAR
