BEGIN:VCALENDAR
VERSION:2.0
PRODID:-//pretix//pretix.eu//
BEGIN:VTIMEZONE
TZID:Europe/London
BEGIN:STANDARD
DTSTART:20001029T030000
RRULE:FREQ=YEARLY;BYDAY=-1SU;BYMONTH=10
TZNAME:GMT
TZOFFSETFROM:+0100
TZOFFSETTO:+0000
END:STANDARD
BEGIN:DAYLIGHT
DTSTART:20000326T020000
RRULE:FREQ=YEARLY;BYDAY=-1SU;BYMONTH=3
TZNAME:BST
TZOFFSETFROM:+0000
TZOFFSETTO:+0100
END:DAYLIGHT
END:VTIMEZONE
BEGIN:VEVENT
UID:pretix-theyard-NYE2022-0@tickets.proudfreedom.co.uk
DTSTART;TZID=Europe/London:20221231T210000
DTEND;TZID=Europe/London:20230101T040000
DESCRIPTION:Tickets: https://tickets.proudfreedom.co.uk/NYE2022/\nAdmission
 : 2022-12-31 21:00\nOrganizer: The Yard
DTSTAMP:20260425T012829Z
LOCATION:The Yard Coventry
SUMMARY:The Yard's New Year's Eve Bash 2022
END:VEVENT
END:VCALENDAR
