BEGIN:VCALENDAR
VERSION:2.0
PRODID:-//pretix//pretix.eu//
BEGIN:VTIMEZONE
TZID:Europe/London
BEGIN:STANDARD
DTSTART:20001029T030000
RRULE:FREQ=YEARLY;BYDAY=-1SU;BYMONTH=10
TZNAME:GMT
TZOFFSETFROM:+0100
TZOFFSETTO:+0000
END:STANDARD
BEGIN:DAYLIGHT
DTSTART:20000326T020000
RRULE:FREQ=YEARLY;BYDAY=-1SU;BYMONTH=3
TZNAME:BST
TZOFFSETFROM:+0000
TZOFFSETTO:+0100
END:DAYLIGHT
END:VTIMEZONE
BEGIN:VEVENT
UID:pretix-theyard-BBBRoyaltease-0@tickets.proudfreedom.co.uk
DTSTART;TZID=Europe/London:20220625T200000
DTEND;TZID=Europe/London:20220625T210000
DESCRIPTION:Tickets: https://tickets.proudfreedom.co.uk/BBBRoyaltease/\nAdm
 ission: 2022-06-25 19:30\nOrganizer: The Yard
DTSTAMP:20260425T112915Z
LOCATION:The Yard Coventry\, 11-12 Bull Yard\, Coventry CV1 1LH
SUMMARY:The Bang Bang Bonanza - Royal-Tease Burlesque Show at The Yard
END:VEVENT
END:VCALENDAR
